BEGIN:VCALENDAR
VERSION:2.0
PRODID:-//ChamberMaster//Event Calendar 2.0//EN
METHOD:PUBLISH
X-PUBLISHED-TTL:P3D
REFRESH-INTERVAL:P3D
CALSCALE:GREGORIAN
BEGIN:VEVENT
DTSTART:20260521T190000Z
DTEND:20260521T220000Z
X-MICROSOFT-CDO-ALLDAYEVENT:FALSE
SUMMARY:2026 Annual Membership Meeting
DESCRIPTION:WELCOME NEW BOARD MEMBERS\, HEAR COMMITTEE REPORTS\, & MORE AT OUR ANNUAL MEMBERSHIP MEETING!\n\nAGC MA will continue with the same format as last year by splitting our Annual Membership Meeting from our All-Member Summer Social.\n\n \n\nVOTING MEMBERSHIP\n\nThe AGC MA Voting Membership\, including all GC/CM members\, will be invited to join the AGC MA Board and Committee Chairs for an in-person membership meeting on May 13 at the AGC MA Conference Room. This will be followed by a light reception.\n\n \n\nALL OTHER AGC MA MEMBERS\n\nAll other AGC MA Members are invited to join virtually to witness the election of the new Board Members and hear updates on the activities of the Association from our Committee Chairs. \n\n \n\nHear about the amazing work of your association\, and then join us in-person on June 11th for the 2026 AGC Summer Social to celebrate our Member Distinction Award Winners and all that we have accomplished!\n\n \n\nBOARD NOMINEES\n\nAs dictated by the bylaws\, the Nominating Committee met and considered candidates for vacant director positions. Below is the suggested slate of candidates as approved by the Committee.\n\n\n\nElected Officers\n\nChair: Brad Forrest - Walsh Brothers\, Inc.\n\nVice-Chair: Mike Kearns - Shawmut Design and Construction\n\nSecretary/Treasurer: Steve Avery - Dimeo Construction Company (renomination)\n\n \n\nElected Directors (Term Expires 2029)\n\n\n	Chris Floyd - C.E. Floyd Company Inc. \n	Jess Baccari - Siena Construction Company\n	Craig Skurka - Gilbane Building Company (renomination)
X-ALT-DESC;FMTTYPE=text/html:<h3><strong><span style="font-size:18px\;">WELCOME NEW BOARD MEMBERS\, HEAR COMMITTEE REPORTS\, &amp\; MORE AT OUR ANNUAL MEMBERSHIP MEETING!</span></strong></h3>\n\n<div><span style="font-size: 13px\;">AGC MA will continue with the same format as last year by splitting our Annual Membership&nbsp\;Meeting from our All-Member Summer Social.</span></div>\n\n<div>&nbsp\;</div>\n\n<div><strong><span style="font-size: 13px\;">VOTING MEMBERSHIP</span></strong></div>\n\n<div><span style="font-size: 13px\;">The AGC MA Voting Membership\, including all GC/CM members\, will be invited to join the AGC MA Board and Committee Chairs for an in-person membership meeting on May 13 at the AGC MA Conference Room. This will be followed by a light reception.</span></div>\n\n<div>&nbsp\;</div>\n\n<div><strong><span style="font-size: 13px\;">ALL OTHER AGC MA MEMBERS</span></strong></div>\n\n<div><span style="font-size: 13px\;">All other AGC MA Members are invited to join virtually to witness the election of the new Board Members and hear updates on the activities of the Association from our Committee Chairs.&nbsp\;</span></div>\n\n<div>&nbsp\;</div>\n\n<div><span style="font-size: 13px\;">Hear about the amazing work of your association\, and then join us in-person on June 11th for the 2026 <a href="https://members.agcmass.org/events/details/2026-agc-summer-social-4568">AGC Summer Social</a> to celebrate our Member Distinction Award Winners and all that we have accomplished!</span></div>\n\n<div>&nbsp\;</div>\n\n<div><strong><span style="font-size: 13px\;">BOARD NOMINEES</span></strong></div>\n\n<div><span style="font-size: 13px\;">As dictated by the bylaws\, the Nominating Committee met and considered candidates for vacant director positions. Below is the suggested slate of candidates as approved by the Committee.<br />\n<br />\n<strong>Elected Officers</strong></span></div>\n\n<div>Chair: Brad Forrest - Walsh Brothers\, Inc.<br />\nVice-Chair: Mike Kearns - Shawmut Design and Construction<br />\nSecretary/Treasurer: Steve Avery - Dimeo Construction Company (renomination)<br />\n&nbsp\;</div>\n\n<div><strong><span style="font-size: 13px\;">Elected Directors (Term Expires 2029)</span></strong></div>\n\n<ul>\n	<li><span style="font-size: 13px\;">Chris Floyd - C.E. Floyd Company Inc.&nbsp\;</span></li>\n	<li><span style="font-size: 13px\;">Jess Baccari - Siena Construction Company</span></li>\n	<li><span style="font-size: 13px\;">Craig Skurka - Gilbane Building Company (renomination)</span></li>\n</ul>\n
LOCATION:Microsoft Teams Town Hall
UID:e.9382.4632
SEQUENCE:3
DTSTAMP:20260421T230628Z
URL:https://members.agcmass.org/events/details/2026-annual-membership-meeting-4632
END:VEVENT

END:VCALENDAR
