BEGIN:VCALENDAR
VERSION:2.0
PRODID:-//ChamberMaster//Event Calendar 2.0//EN
METHOD:PUBLISH
X-PUBLISHED-TTL:P3D
REFRESH-INTERVAL:P3D
CALSCALE:GREGORIAN
BEGIN:VEVENT
DTSTART:20240911T170000Z
DTEND:20240911T210000Z
X-MICROSOFT-CDO-ALLDAYEVENT:FALSE
SUMMARY:Single Exit Building Proposals
DESCRIPTION:JOIN THE CONVERSATION ON SINGLE EXIT BUILDING PROPOSALS\n\n\nAs you are probably aware there have been a number of proposals at the state level and in the standards development process to increase the allowable height of apartment buildings with a single exit stair. NFPA will be hosting a Single Stair Symposium on September 11-12 at NFPA headquarters in Quincy\, MA. The Symposium will consist of a number of presentations that will be followed by a discussion. Following the event\, NFPA will publish a report that can be used by policymakers to understand the issue from a fire and life safety perspective and can be used as a framework for discussions in code development. The presentations will include current code allowances in both NFPA and ICC codes\, jurisdictions that have local allowances permitting taller buildings than what is currently allowed by NFPA or ICC\, and international perspectives. Speakers will also include those who support the changes and those who are opposed. The discussion will focus on the positive aspects of the proposals\, address areas of concern\, and identify any knowledge gaps.\n\n\n\nThis symposium is open to interested parties\; however\, space is limited. Please register using the below form before Wednesday\, September 4\, 2024.\n\n\n\nREGISTER HERE
X-ALT-DESC;FMTTYPE=text/html:<div style="text-align: center\;"><span style="font-size:18px\;"><strong>JOIN THE CONVERSATION ON SINGLE EXIT BUILDING PROPOSALS</strong></span></div>\n<br />\nAs you are probably aware there have been a number of proposals at the state level and in the standards development process to increase the allowable height of apartment buildings with a single exit stair. NFPA will be hosting a Single Stair Symposium on September 11-12 at NFPA headquarters in Quincy\, MA. The Symposium will consist of a number of presentations that will be followed by a discussion. Following the event\, NFPA will publish a report that can be used by policymakers to understand the issue from a fire and life safety perspective and can be used as a framework for discussions in code development. The presentations will include current code allowances in both NFPA and ICC codes\, jurisdictions that have local allowances permitting taller buildings than what is currently allowed by NFPA or ICC\, and international perspectives. Speakers will also include those who support the changes and those who are opposed. The discussion will focus on the positive aspects of the proposals\, address areas of concern\, and identify any knowledge gaps.<br />\n<br />\n<strong>This symposium is open to interested parties\; however\, space is limited. Please register using the below form before Wednesday\, September 4\, 2024.</strong><br />\n<br />\n<span style="font-size:26px\;"><strong><a href="https://www.nfpa.org/events/single-exit-stair-symposium">REGISTER HERE</a></strong></span>
LOCATION:NFPA Headquarters 1 Batterymarch Park Quincy\, MA
UID:e.9382.4320
SEQUENCE:3
DTSTAMP:20260425T113649Z
URL:https://members.agcmass.org/events/details/single-exit-building-proposals-4320
END:VEVENT

END:VCALENDAR
